BEGIN:VCALENDAR
VERSION:2.0
PRODID:spatie/icalendar-generator
DESCRIPTION:Évènements de Salle Saint-Hilaire
X-WR-CALDESC:Évènements de Salle Saint-Hilaire
REFRESH-INTERVAL;VALUE=DURATION:PT1440M
X-PUBLISHED-TTL:PT1440M
BEGIN:VTIMEZONE
TZID:Europe/Brussels
BEGIN:STANDARD
DTSTART:20261025T030000Z
TZOFFSETFROM:+0200
TZOFFSETTO:+0100
END:STANDARD
BEGIN:DAYLIGHT
DTSTART:20270328T020000Z
TZOFFSETFROM:+0100
TZOFFSETTO:+0200
END:DAYLIGHT
BEGIN:STANDARD
DTSTART:20271031T030000Z
TZOFFSETFROM:+0200
TZOFFSETTO:+0100
END:STANDARD
END:VTIMEZONE
BEGIN:VTIMEZONE
TZID:UTC
BEGIN:STANDARD
DTSTART:20250725T141150Z
TZOFFSETFROM:+0000
TZOFFSETTO:+0000
END:STANDARD
END:VTIMEZONE
BEGIN:VEVENT
UID:253-232
DTSTAMP:20260421T141150Z
SUMMARY:Marche Adeps
LOCATION:
ORGANIZER;CN=julie.allard:MAILTO:julie.allard@temploux.be
DTSTART;TZID=Europe/Brussels;VALUE=DATE:20270506
DTEND;TZID=Europe/Brussels;VALUE=DATE:20270507
X-ALT-DESC;FMTTYPE=TEXT/HTML:
CATEGORIES:Évènements
URL;VALUE=URI:https://salle.temploux.be/mc-events/marche-adeps-5/
METHOD:PUBLISH
END:VEVENT
END:VCALENDAR