BEGIN:VCALENDAR
VERSION:2.0
PRODID:spatie/icalendar-generator
DESCRIPTION:Évènements de Salle Saint-Hilaire
X-WR-CALDESC:Évènements de Salle Saint-Hilaire
REFRESH-INTERVAL;VALUE=DURATION:PT1440M
X-PUBLISHED-TTL:PT1440M
BEGIN:VTIMEZONE
TZID:Europe/Brussels
BEGIN:DAYLIGHT
DTSTART:20250330T020000Z
TZOFFSETFROM:+0100
TZOFFSETTO:+0200
END:DAYLIGHT
BEGIN:STANDARD
DTSTART:20251026T030000Z
TZOFFSETFROM:+0200
TZOFFSETTO:+0100
END:STANDARD
END:VTIMEZONE
BEGIN:VTIMEZONE
TZID:UTC
BEGIN:STANDARD
DTSTART:20250725T100000Z
TZOFFSETFROM:+0000
TZOFFSETTO:+0000
END:STANDARD
END:VTIMEZONE
BEGIN:VEVENT
UID:179-174
DTSTAMP:20260421T100000Z
SUMMARY:Location privée
LOCATION:
ORGANIZER;CN=julie.allard:MAILTO:julie.allard@temploux.be
DTSTART;TZID=Europe/Brussels:20250913T000000
DTEND;TZID=Europe/Brussels:20250914T010000
X-ALT-DESC;FMTTYPE=TEXT/HTML:V.A.
CATEGORIES:Location privée
URL;VALUE=URI:https://salle.temploux.be/mc-events/location-privee-74/
METHOD:PUBLISH
END:VEVENT
END:VCALENDAR